BEGIN:VCALENDAR
VERSION:2.0
PRODID:-//Organised Occasions - Event Espresso Version 3.1.37.17.P//NONSGML v1.0//EN
METHOD:PUBLISH
X-ORIGINAL-URL:https://organisedoccasions.com.au/event-registration/?ee=847
X-WR-CALDESC:Organised Occasions
X-WR-TIMEZONE:Australia/Sydney
BEGIN:VEVENT
DTSTAMP:20210224T195253
UID:154k97trvdaahq2haiq4eknmh7-6036ab8d32e4e8.44789845@https://organisedoccasions.com.au/event-registration/?ee=847
ORGANIZER:MAILTO:debbie@organisedoccasions.com.au
DTSTART:20220121T070000
DTEND:20220121T200000
STATUS:CONFIRMED
URL:https://organisedoccasions.com.au/event-registration/?ee=847
SUMMARY:Tamworth Country Music Festival 2022
LOCATION:
END:VEVENT
END:VCALENDAR
