BEGIN:VCALENDAR
VERSION:2.0
PRODID:-//Organised Occasions - Event Espresso Version 3.1.37.17.P//NONSGML v1.0//EN
METHOD:PUBLISH
X-ORIGINAL-URL:https://organisedoccasions.com.au/event-registration/?ee=863
X-WR-CALDESC:Organised Occasions
X-WR-TIMEZONE:Australia/Sydney
BEGIN:VEVENT
DTSTAMP:20210224T194217
UID:154k97trvdaahq2haiq4eknmh7-6036ab8d32e4e8.44789845@https://organisedoccasions.com.au/event-registration/?ee=863
ORGANIZER:MAILTO:debbie@organisedoccasions.com.au
DTSTART:20210410T080000
DTEND:20210410T200000
STATUS:CONFIRMED
URL:https://organisedoccasions.com.au/event-registration/?ee=863
SUMMARY:Introducing The Hunter Valley Gin
LOCATION:2213 Broke Road Pokolbin, NSW 2320 Australia
END:VEVENT
END:VCALENDAR
